BEGIN:VCALENDAR
VERSION:2.0
CALSCALE:GREGORIAN
PRODID:UnionActive
BEGIN:VEVENT
UID:12068380@ibew21.org
SUMMARY:Unit 7 Meeting Collinsville
DESCRIPTION:Contact: 618-345-2508 \nLink for more information: http://ibew21.org/index.cfm?zone=/unionactive/view_calendar.cfm&calendarID=12068380&thisdate=01/16/2023&useCalSection=main
LOCATION:American Legion Post 365

1022 Vandalia Street 

Collinsville, IL 
URL:http://ibew21.org/index.cfm?zone=/unionactive/view_calendar.cfm&calendarID=12068380&thisdate=01/16/2023&useCalSection=main
DTSTART:20230117T030000Z
DTEND:20230117T040000Z
DTSTAMP:20240229T135255
TRIGGER:-PT60M
END:VEVENT
END:VCALENDAR
