BEGIN:VCALENDAR
VERSION:2.0
CALSCALE:GREGORIAN
PRODID:UnionActive
BEGIN:VEVENT
UID:12068378@ibew21.org
SUMMARY:Unit 5 Meeting-East Peoria
DESCRIPTION:Contact: (309)694-3151 \nLink for more information: http://ibew21.org/index.cfm?zone=/unionactive/view_calendar.cfm&calendarID=12068378&thisdate=02/16/2022&useCalSection=main
LOCATION:UAW 974

3025 Springfield Rd.

East Peoria, IL 61611
URL:http://ibew21.org/index.cfm?zone=/unionactive/view_calendar.cfm&calendarID=12068378&thisdate=02/16/2022&useCalSection=main
DTSTART:20220217T020000Z
DTEND:20220217T030000Z
DTSTAMP:20240229T135607
TRIGGER:-PT60M
END:VEVENT
END:VCALENDAR
