BEGIN:VCALENDAR
VERSION:2.0
CALSCALE:GREGORIAN
PRODID:UnionActive
BEGIN:VEVENT
UID:12068376@ibew21.org
SUMMARY:Unit 5 Meeting- Danville
DESCRIPTION:Contact: 217-442-0996 \nLink for more information: http://ibew21.org/index.cfm?zone=/unionactive/view_calendar.cfm&calendarID=12068376&thisdate=04/20/2022&useCalSection=main
LOCATION:IBEW Local #538

1290 N. Michigan Ave.

Danville, IL 
URL:http://ibew21.org/index.cfm?zone=/unionactive/view_calendar.cfm&calendarID=12068376&thisdate=04/20/2022&useCalSection=main
DTSTART:20220421T003000Z
DTEND:20220421T013000Z
DTSTAMP:20240229T135623
TRIGGER:-PT60M
END:VEVENT
END:VCALENDAR
