BEGIN:VCALENDAR
VERSION:2.0
CALSCALE:GREGORIAN
PRODID:UnionActive
BEGIN:VEVENT
UID:12068375@ibew21.org
SUMMARY:Unit 5 Meeting- Danville*New Location*
DESCRIPTION:Contact: 217-442-0996 \nLink for more information: http://ibew21.org/index.cfm?zone=/unionactive/view_calendar.cfm&calendarID=12068375&thisdate=01/18/2023&useCalSection=main
LOCATION:Oakwood Village Hall (Board Room)
106 S Scott St.
Oakwood, IL  61858

URL:http://ibew21.org/index.cfm?zone=/unionactive/view_calendar.cfm&calendarID=12068375&thisdate=01/18/2023&useCalSection=main
DTSTART:20230119T013000Z
DTEND:20230119T023000Z
DTSTAMP:20240229T135256
TRIGGER:-PT60M
END:VEVENT
END:VCALENDAR
