BEGIN:VCALENDAR
VERSION:2.0
CALSCALE:GREGORIAN
PRODID:UnionActive
BEGIN:VEVENT
UID:12068370@ibew21.org
SUMMARY:Unit 4 Meeting Joliet
DESCRIPTION:Contact: 815-744-3355 \nLink for more information: http://ibew21.org/index.cfm?zone=/unionactive/view_calendar.cfm&calendarID=12068370&thisdate=02/09/2022&useCalSection=main
LOCATION:Elks Club
250 SE. Frontage Road
Joliet, IL 
URL:http://ibew21.org/index.cfm?zone=/unionactive/view_calendar.cfm&calendarID=12068370&thisdate=02/09/2022&useCalSection=main
DTSTART:20220210T030000Z
DTEND:20220210T040000Z
DTSTAMP:20240229T135616
TRIGGER:-PT60M
END:VEVENT
END:VCALENDAR
