BEGIN:VCALENDAR
VERSION:2.0
CALSCALE:GREGORIAN
PRODID:UnionActive
BEGIN:VEVENT
UID:12068364@ibew21.org
SUMMARY:Unit 2 Meeting Merrillville, IN
DESCRIPTION:Contact: 219-756-5101	 \nLink for more information: http://ibew21.org/index.cfm?zone=/unionactive/view_calendar.cfm&calendarID=12068364&thisdate=08/09/2022&useCalSection=main
LOCATION:Slovak Club

6920 Broadway

Merrillville, IN


URL:http://ibew21.org/index.cfm?zone=/unionactive/view_calendar.cfm&calendarID=12068364&thisdate=08/09/2022&useCalSection=main
DTSTART:20220810T020000Z
DTEND:20220810T030000Z
DTSTAMP:20240229T135616
TRIGGER:-PT60M
END:VEVENT
END:VCALENDAR
