BEGIN:VCALENDAR
VERSION:2.0
CALSCALE:GREGORIAN
PRODID:UnionActive
BEGIN:VEVENT
UID:12068362@ibew21.org
SUMMARY:Unit 2 Meeting Merrillville, IN
DESCRIPTION:Contact: 219-756-5101	 \nLink for more information: http://ibew21.org/index.cfm?zone=/unionactive/view_calendar.cfm&calendarID=12068362&thisdate=02/08/2022&useCalSection=main
LOCATION:Slovak Club

6920 Broadway

Merrillville, IN


URL:http://ibew21.org/index.cfm?zone=/unionactive/view_calendar.cfm&calendarID=12068362&thisdate=02/08/2022&useCalSection=main
DTSTART:20220209T030000Z
DTEND:20220209T040000Z
DTSTAMP:20240229T135619
TRIGGER:-PT60M
END:VEVENT
END:VCALENDAR
