BEGIN:VCALENDAR
VERSION:2.0
CALSCALE:GREGORIAN
PRODID:UnionActive
BEGIN:VEVENT
UID:12068357@ibew21.org
SUMMARY:Unit 2 Meeting Oak Forest
DESCRIPTION:Contact: 708-687-9323 \nLink for more information: http://ibew21.org/index.cfm?zone=/unionactive/view_calendar.cfm&calendarID=12068357&thisdate=10/11/2022&useCalSection=main
LOCATION:Gaelic Park
6119 W. 147th
Oak Forest, IL
URL:http://ibew21.org/index.cfm?zone=/unionactive/view_calendar.cfm&calendarID=12068357&thisdate=10/11/2022&useCalSection=main
DTSTART:20221012T020000Z
DTEND:20221012T030000Z
DTSTAMP:20240229T135615
TRIGGER:-PT60M
END:VEVENT
END:VCALENDAR
