BEGIN:VCALENDAR
VERSION:2.0
CALSCALE:GREGORIAN
PRODID:UnionActive
BEGIN:VEVENT
UID:12068353@ibew21.org
SUMMARY:Unit 2 Meeting Lansing
DESCRIPTION:Contact: 708-474-5906 \nLink for more information: http://ibew21.org/index.cfm?zone=/unionactive/view_calendar.cfm&calendarID=12068353&thisdate=09/13/2022&useCalSection=main
LOCATION:American Legion Post #697

18255 Grant St.

Lansing, IL 
URL:http://ibew21.org/index.cfm?zone=/unionactive/view_calendar.cfm&calendarID=12068353&thisdate=09/13/2022&useCalSection=main
DTSTART:20220914T020000Z
DTEND:20220914T030000Z
DTSTAMP:20240229T135622
TRIGGER:-PT60M
END:VEVENT
END:VCALENDAR
