BEGIN:VCALENDAR
VERSION:2.0
CALSCALE:GREGORIAN
PRODID:UnionActive
BEGIN:VEVENT
UID:12068352@ibew21.org
SUMMARY:Unit 2 Meeting Lansing
DESCRIPTION:Contact: 708-474-5906 \nLink for more information: http://ibew21.org/index.cfm?zone=/unionactive/view_calendar.cfm&calendarID=12068352&thisdate=06/14/2022&useCalSection=main
LOCATION:American Legion Post #697

18255 Grant St.

Lansing, IL 
URL:http://ibew21.org/index.cfm?zone=/unionactive/view_calendar.cfm&calendarID=12068352&thisdate=06/14/2022&useCalSection=main
DTSTART:20220615T020000Z
DTEND:20220615T030000Z
DTSTAMP:20240229T135618
TRIGGER:-PT60M
END:VEVENT
END:VCALENDAR
