BEGIN:VCALENDAR
VERSION:2.0
CALSCALE:GREGORIAN
PRODID:UnionActive
BEGIN:VEVENT
UID:12068350@ibew21.org
SUMMARY:Unit 7 Meeting Central City
DESCRIPTION:Contact: 618-532-9475 \nLink for more information: http://ibew21.org/index.cfm?zone=/unionactive/view_calendar.cfm&calendarID=12068350&thisdate=09/19/2022&useCalSection=main
LOCATION:Central City Lions Club

140 S. Morrison

Central City, IL 


URL:http://ibew21.org/index.cfm?zone=/unionactive/view_calendar.cfm&calendarID=12068350&thisdate=09/19/2022&useCalSection=main
DTSTART:20220920T020000Z
DTEND:20220920T030000Z
DTSTAMP:20240229T135617
TRIGGER:-PT60M
END:VEVENT
END:VCALENDAR
