BEGIN:VCALENDAR
VERSION:2.0
CALSCALE:GREGORIAN
PRODID:UnionActive
BEGIN:VEVENT
UID:12068335@ibew21.org
SUMMARY:Unit 4 Meeting Lemont
DESCRIPTION:Contact: 630-257-9859 \nLink for more information: http://ibew21.org/index.cfm?zone=/unionactive/view_calendar.cfm&calendarID=12068335&thisdate=06/08/2022&useCalSection=main
LOCATION:VFW
15780 New Ave.
Lemont, IL 
URL:http://ibew21.org/index.cfm?zone=/unionactive/view_calendar.cfm&calendarID=12068335&thisdate=06/08/2022&useCalSection=main
DTSTART:20220609T020000Z
DTEND:20220609T030000Z
DTSTAMP:20240229T135619
TRIGGER:-PT60M
END:VEVENT
END:VCALENDAR
