BEGIN:VCALENDAR
VERSION:2.0
CALSCALE:GREGORIAN
PRODID:UnionActive
BEGIN:VEVENT
UID:12068325@ibew21.org
SUMMARY:Unit 1 Meeting Chicago - Irish
DESCRIPTION:Contact: 773-282-7035 \nLink for more information: http://ibew21.org/index.cfm?zone=/unionactive/view_calendar.cfm&calendarID=12068325&thisdate=03/10/2022&useCalSection=main
LOCATION:Irish-American Heritage Center

4626 N. Knox Ave.

Chicago, IL 
URL:http://ibew21.org/index.cfm?zone=/unionactive/view_calendar.cfm&calendarID=12068325&thisdate=03/10/2022&useCalSection=main
DTSTART:20220311T030000Z
DTEND:20220311T040000Z
DTSTAMP:20240229T135613
TRIGGER:-PT60M
END:VEVENT
END:VCALENDAR
