BEGIN:VCALENDAR
VERSION:2.0
CALSCALE:GREGORIAN
PRODID:UnionActive
BEGIN:VEVENT
UID:12068320@ibew21.org
SUMMARY:Unit 1 Meeting Chicago Gideon 
DESCRIPTION:Contact: 773-907-2226 \nLink for more information: http://ibew21.org/index.cfm?zone=/unionactive/view_calendar.cfm&calendarID=12068320&thisdate=02/10/2022&useCalSection=main
LOCATION:Gideon Welles
4500 N. Lincoln Ave.
Chicago,IL
URL:http://ibew21.org/index.cfm?zone=/unionactive/view_calendar.cfm&calendarID=12068320&thisdate=02/10/2022&useCalSection=main
DTSTART:20220211T030000Z
DTEND:20220211T040000Z
DTSTAMP:20240229T135623
TRIGGER:-PT60M
END:VEVENT
END:VCALENDAR
