BEGIN:VCALENDAR
VERSION:2.0
CALSCALE:GREGORIAN
PRODID:UnionActive
BEGIN:VEVENT
UID:12068312@ibew21.org
SUMMARY:Unit 1 Meeting - Hillside
DESCRIPTION:Contact: 708-544-9300 \nLink for more information: http://ibew21.org/index.cfm?zone=/unionactive/view_calendar.cfm&calendarID=12068312&thisdate=07/14/2022&useCalSection=main
LOCATION:Best Western Hillside
4400 Frontage Rd., 
Hillside, IL
URL:http://ibew21.org/index.cfm?zone=/unionactive/view_calendar.cfm&calendarID=12068312&thisdate=07/14/2022&useCalSection=main
DTSTART:20220715T020000Z
DTEND:20220715T030000Z
DTSTAMP:20240229T135622
TRIGGER:-PT60M
END:VEVENT
END:VCALENDAR
