BEGIN:VCALENDAR
VERSION:2.0
CALSCALE:GREGORIAN
PRODID:UnionActive
BEGIN:VEVENT
UID:11292660@ibew21.org
SUMMARY:IBEW 21 Bulls Game! 
DESCRIPTION:Contact:  \nLink for more information: http://ibew21.org/index.cfm?zone=/unionactive/view_calendar.cfm&calendarID=11292660&thisdate=02/23/2020&useCalSection=main
LOCATION:United Center
Game Time 6:00
Pregame Warm Up 4:30
URL:http://ibew21.org/index.cfm?zone=/unionactive/view_calendar.cfm&calendarID=11292660&thisdate=02/23/2020&useCalSection=main
DTSTART:20200224T013000Z
DTEND:20200224T060000Z
DTSTAMP:20240229T135907
TRIGGER:-PT60M
END:VEVENT
END:VCALENDAR
