BEGIN:VCALENDAR
VERSION:2.0
CALSCALE:GREGORIAN
PRODID:UnionActive
BEGIN:VEVENT
UID:11285587@ibew21.org
SUMMARY:IBEW 21 Scholarship Deadline
DESCRIPTION:Contact:  \nLink for more information: http://ibew21.org/index.cfm?zone=/unionactive/view_calendar.cfm&calendarID=11285587&thisdate=05/01/2020&useCalSection=main
LOCATION:
URL:http://ibew21.org/index.cfm?zone=/unionactive/view_calendar.cfm&calendarID=11285587&thisdate=05/01/2020&useCalSection=main
DTSTART:20200501T233000Z
DTEND:20200501T233000Z
DTSTAMP:20240229T135909
TRIGGER:-PT60M
END:VEVENT
END:VCALENDAR
