BEGIN:VCALENDAR
VERSION:2.0
CALSCALE:GREGORIAN
PRODID:UnionActive
BEGIN:VEVENT
UID:11283511@ibew21.org
SUMMARY:Unit 1 Meeting Chicago *New Location*
DESCRIPTION:Contact: 773-387-7720 \nLink for more information: http://ibew21.org/index.cfm?zone=/unionactive/view_calendar.cfm&calendarID=11283511&thisdate=01/12/2023&useCalSection=main
LOCATION:VFW Post #8322
6940 W Diversey Ave.
Chicago, IL
Off Street Parking
URL:http://ibew21.org/index.cfm?zone=/unionactive/view_calendar.cfm&calendarID=11283511&thisdate=01/12/2023&useCalSection=main
DTSTART:20230113T030000Z
DTEND:20230113T030000Z
DTSTAMP:20240229T135256
TRIGGER:-PT60M
END:VEVENT
END:VCALENDAR
