BEGIN:VCALENDAR
VERSION:2.0
CALSCALE:GREGORIAN
PRODID:UnionActive
BEGIN:VEVENT
UID:11283510@ibew21.org
SUMMARY:Unit 5 Meeting East Peoria
DESCRIPTION:Contact: (309)694-3151 \nLink for more information: http://ibew21.org/index.cfm?zone=/unionactive/view_calendar.cfm&calendarID=11283510&thisdate=02/19/2020&useCalSection=main
LOCATION:UAW 974

3025 Springfield Rd.

East Peoria, IL 61611
URL:http://ibew21.org/index.cfm?zone=/unionactive/view_calendar.cfm&calendarID=11283510&thisdate=02/19/2020&useCalSection=main
DTSTART:20200220T020000Z
DTEND:20200220T030000Z
DTSTAMP:20240229T135909
TRIGGER:-PT60M
END:VEVENT
END:VCALENDAR
