BEGIN:VCALENDAR
VERSION:2.0
CALSCALE:GREGORIAN
PRODID:UnionActive
BEGIN:VEVENT
UID:10711678@ibew21.org
SUMMARY:Unit 1 Meeting Chicago - Gideon 
DESCRIPTION:Contact: 773-907-2226 \nLink for more information: http://ibew21.org/index.cfm?zone=/unionactive/view_calendar.cfm&calendarID=10711678&thisdate=11/14/2019&useCalSection=main
LOCATION:Gideon Welles

4500 N. Lincoln Ave.

Chicago,IL
URL:http://ibew21.org/index.cfm?zone=/unionactive/view_calendar.cfm&calendarID=10711678&thisdate=11/14/2019&useCalSection=main
DTSTART:20191115T030000Z
DTEND:20191115T040000Z
DTSTAMP:20240229T140000
TRIGGER:-PT60M
END:VEVENT
END:VCALENDAR
