BEGIN:VCALENDAR
VERSION:2.0
CALSCALE:GREGORIAN
PRODID:UnionActive
BEGIN:VEVENT
UID:10710517@ibew21.org
SUMMARY:Unit 5 Meeting Danville *Location Change
DESCRIPTION:Contact: 217-442-0996 \nLink for more information: http://ibew21.org/index.cfm?zone=/unionactive/view_calendar.cfm&calendarID=10710517&thisdate=09/21/2022&useCalSection=main
LOCATION:IBEW Local #538

1290 N. Michigan Ave.

Danville, IL 
URL:http://ibew21.org/index.cfm?zone=/unionactive/view_calendar.cfm&calendarID=10710517&thisdate=09/21/2022&useCalSection=main
DTSTART:20220922T003000Z
DTEND:20220922T013000Z
DTSTAMP:20240229T135623
TRIGGER:-PT60M
END:VEVENT
END:VCALENDAR
