BEGIN:VCALENDAR
VERSION:2.0
CALSCALE:GREGORIAN
PRODID:UnionActive
BEGIN:VEVENT
UID:10106699@ibew21.org
SUMMARY:Unit 2 Meeting Orland Park*New Location
DESCRIPTION:Contact: 708-403-6200 \nLink for more information: http://ibew21.org/index.cfm?zone=/unionactive/view_calendar.cfm&calendarID=10106699&thisdate=03/13/2018&useCalSection=main
LOCATION:Orland Park Civic Center
14750 Ravinia Ave.
Orland Park, IL
URL:http://ibew21.org/index.cfm?zone=/unionactive/view_calendar.cfm&calendarID=10106699&thisdate=03/13/2018&useCalSection=main
DTSTART:20180314T020000Z
DTEND:20180314T030000Z
DTSTAMP:20240229T140056
TRIGGER:-PT60M
END:VEVENT
END:VCALENDAR
