BEGIN:VCALENDAR
VERSION:2.0
CALSCALE:GREGORIAN
PRODID:UnionActive
BEGIN:VEVENT
UID:10045636@ibew21.org
SUMMARY:Unit 3 Meeting Hoffman Estates
DESCRIPTION:Contact: 847-645-9500 \nLink for more information: http://ibew21.org/index.cfm?zone=/unionactive/view_calendar.cfm&calendarID=10045636&thisdate=05/20/2021&useCalSection=main
LOCATION:Marriott Chicago Northwest

4800 Hoffman Blvd.

Hoffman Estates, IL
URL:http://ibew21.org/index.cfm?zone=/unionactive/view_calendar.cfm&calendarID=10045636&thisdate=05/20/2021&useCalSection=main
DTSTART:20210521T020000Z
DTEND:20210521T030000Z
DTSTAMP:20240229T135821
TRIGGER:-PT60M
END:VEVENT
END:VCALENDAR
